BEGIN:VCALENDAR
VERSION:2.0
PRODID:-//www.honservice.org//NONSGML kigkonsult.se iCalcreator 2.30.10//
CALSCALE:GREGORIAN
METHOD:PUBLISH
UID:92417e1f-b0d2-4dac-95d1-e7bdc27445a1
X-WR-CALDESC:
X-WR-RELCALID:74d21053e526d0a1e8650c6481c7d8eb
X-WR-TIMEZONE:America/Denver
BEGIN:VTIMEZONE
TZID:America/Denver
BEGIN:STANDARD
TZNAME:MST
DTSTART:20231105T020000
TZOFFSETFROM:-0600
TZOFFSETTO:-0700
RDATE:20241103T020000
RDATE:20251102T020000
END:STANDARD
BEGIN:DAYLIGHT
TZNAME:MDT
DTSTART:20240310T020000
TZOFFSETFROM:-0700
TZOFFSETTO:-0600
RDATE:20250309T020000
END:DAYLIGHT
END:VTIMEZONE
BEGIN:VEVENT
UID:91f7f92c-1d1f-4f0e-848f-edc049b6a654
DTSTAMP:20260424T064927Z
DESCRIPTION:
DTSTART;TZID=America/Denver:20240828T000000
DTEND;TZID=America/Denver:20240828T000000
LOCATION:
SUMMARY:Closed at NOON
END:VEVENT
END:VCALENDAR
