BEGIN:VCALENDAR
VERSION:2.0
PRODID:-//www.honservice.org//NONSGML kigkonsult.se iCalcreator 2.30.10//
CALSCALE:GREGORIAN
METHOD:PUBLISH
UID:af8f0db1-125f-46e8-bf40-658142336481
X-WR-CALDESC:
X-WR-RELCALID:7a0e4058a4a3d596fe5e9dc91f9e4fb1
X-WR-TIMEZONE:America/Denver
BEGIN:VTIMEZONE
TZID:America/Denver
BEGIN:STANDARD
TZNAME:MST
DTSTART:20251102T020000
TZOFFSETFROM:-0600
TZOFFSETTO:-0700
RDATE:20261101T020000
RDATE:20271107T020000
END:STANDARD
BEGIN:DAYLIGHT
TZNAME:MDT
DTSTART:20260308T020000
TZOFFSETFROM:-0700
TZOFFSETTO:-0600
RDATE:20270314T020000
END:DAYLIGHT
END:VTIMEZONE
BEGIN:VEVENT
UID:4e5b5487-3ebb-4a1b-b14f-2e1529a0f137
DTSTAMP:20260424T083057Z
DESCRIPTION:
DTSTART;TZID=America/Denver:20260623T040000
DTEND;TZID=America/Denver:20260625T040001
LOCATION:Berthoud Only
SUMMARY:HNS: Berthoud CLOSED
END:VEVENT
END:VCALENDAR
