BEGIN:VCALENDAR
VERSION:2.0
PRODID:-//www.honservice.org//NONSGML kigkonsult.se iCalcreator 2.30.10//
CALSCALE:GREGORIAN
METHOD:PUBLISH
UID:0fed3b47-09a1-4bd6-8f9c-6088ed688d6b
X-WR-CALDESC:
X-WR-RELCALID:f2d0bd31549dee481c7a605ac1bc8838
X-WR-TIMEZONE:America/Denver
BEGIN:VTIMEZONE
TZID:America/Denver
BEGIN:STANDARD
TZNAME:MST
DTSTART:20251102T020000
TZOFFSETFROM:-0600
TZOFFSETTO:-0700
RDATE:20261101T020000
RDATE:20271107T020000
END:STANDARD
BEGIN:DAYLIGHT
TZNAME:MDT
DTSTART:20260308T020000
TZOFFSETFROM:-0700
TZOFFSETTO:-0600
RDATE:20270314T020000
END:DAYLIGHT
END:VTIMEZONE
BEGIN:VEVENT
UID:9191276d-bbaa-4a70-9cb3-c4876771da15
DTSTAMP:20260422T115625Z
DESCRIPTION:
DTSTART;TZID=America/Denver:20260730T090000
DTEND;TZID=America/Denver:20260730T180000
LOCATION:HNS - Loveland
SUMMARY:HNS Loveland - Late Hours\, 9am-6pm
END:VEVENT
END:VCALENDAR
