BEGIN:VCALENDAR
VERSION:2.0
PRODID:-//www.honservice.org//NONSGML kigkonsult.se iCalcreator 2.30.10//
CALSCALE:GREGORIAN
METHOD:PUBLISH
UID:6a44b7db-cdb9-4596-ba68-670d3ede571e
X-WR-CALDESC:
X-WR-RELCALID:bcd429bae0bca0002734cd9440f506ca
X-WR-TIMEZONE:America/Denver
BEGIN:VTIMEZONE
TZID:America/Denver
BEGIN:STANDARD
TZNAME:MST
DTSTART:20251102T020000
TZOFFSETFROM:-0600
TZOFFSETTO:-0700
RDATE:20261101T020000
RDATE:20271107T020000
END:STANDARD
BEGIN:DAYLIGHT
TZNAME:MDT
DTSTART:20260308T020000
TZOFFSETFROM:-0700
TZOFFSETTO:-0600
RDATE:20270314T020000
END:DAYLIGHT
END:VTIMEZONE
BEGIN:VEVENT
UID:6f30ed8a-a05c-4b7a-9f93-4a22d46d36f5
DTSTAMP:20260422T133808Z
DESCRIPTION:
DTSTART;TZID=America/Denver:20260820T090000
DTEND;TZID=America/Denver:20260820T180000
LOCATION:HNS - Loveland
SUMMARY:HNS Loveland - Late Hours\, 9am-6pm
END:VEVENT
END:VCALENDAR
