BEGIN:VCALENDAR
VERSION:2.0
PRODID:-//www.honservice.org//NONSGML kigkonsult.se iCalcreator 2.30.10//
CALSCALE:GREGORIAN
METHOD:PUBLISH
UID:e446b71f-7732-4b71-bf98-356c0c29ed3e
X-WR-CALDESC:
X-WR-RELCALID:75bab645643850ce87f0bca40576d9ef
X-WR-TIMEZONE:America/Denver
BEGIN:VTIMEZONE
TZID:America/Denver
BEGIN:STANDARD
TZNAME:MST
DTSTART:20251102T020000
TZOFFSETFROM:-0600
TZOFFSETTO:-0700
RDATE:20261101T020000
RDATE:20271107T020000
END:STANDARD
BEGIN:DAYLIGHT
TZNAME:MDT
DTSTART:20260308T020000
TZOFFSETFROM:-0700
TZOFFSETTO:-0600
RDATE:20270314T020000
RDATE:20280312T020000
END:DAYLIGHT
END:VTIMEZONE
BEGIN:VEVENT
UID:c010892d-a1ff-4026-b37b-0692595eb73f
DTSTAMP:20260422T163253Z
DESCRIPTION:
DTSTART;TZID=America/Denver:20261029T090000
DTEND;TZID=America/Denver:20261029T180000
LOCATION:HNS - Loveland
SUMMARY:HNS Loveland - Late Hours\, 9am-6pm
END:VEVENT
END:VCALENDAR
