BEGIN:VCALENDAR
VERSION:2.0
PRODID:-//www.honservice.org//NONSGML kigkonsult.se iCalcreator 2.30.10//
CALSCALE:GREGORIAN
METHOD:PUBLISH
UID:d13299c5-ae22-4eee-a9a9-2b9c93749793
X-WR-CALDESC:
X-WR-RELCALID:486693b1a87058d378df2b77e8667e18
X-WR-TIMEZONE:America/Denver
BEGIN:VTIMEZONE
TZID:America/Denver
BEGIN:STANDARD
TZNAME:MST
DTSTART:20261101T020000
TZOFFSETFROM:-0600
TZOFFSETTO:-0700
RDATE:20271107T020000
END:STANDARD
BEGIN:DAYLIGHT
TZNAME:MDT
DTSTART:20260308T020000
TZOFFSETFROM:-0700
TZOFFSETTO:-0600
RDATE:20270314T020000
RDATE:20280312T020000
END:DAYLIGHT
END:VTIMEZONE
BEGIN:VEVENT
UID:8bd4bba5-ebfa-4010-a7ed-40ffe54a7360
DTSTAMP:20260422T193414Z
DESCRIPTION:
DTSTART;TZID=America/Denver:20261224T090000
DTEND;TZID=America/Denver:20261224T180000
LOCATION:HNS - Loveland
SUMMARY:HNS Loveland - Late Hours\, 9am-6pm
END:VEVENT
END:VCALENDAR
