BEGIN:VCALENDAR
VERSION:2.0
PRODID:-//www.honservice.org//NONSGML kigkonsult.se iCalcreator 2.30.10//
CALSCALE:GREGORIAN
METHOD:PUBLISH
UID:9bacc9aa-b0f9-46bc-b2cf-058bcf888769
X-WR-CALDESC:
X-WR-RELCALID:985f2b1fe7895d57143c8e9d3e190c55
X-WR-TIMEZONE:America/Denver
BEGIN:VTIMEZONE
TZID:America/Denver
BEGIN:STANDARD
TZNAME:MST
DTSTART:20261101T020000
TZOFFSETFROM:-0600
TZOFFSETTO:-0700
RDATE:20271107T020000
END:STANDARD
BEGIN:DAYLIGHT
TZNAME:MDT
DTSTART:20270314T020000
TZOFFSETFROM:-0700
TZOFFSETTO:-0600
RDATE:20280312T020000
END:DAYLIGHT
END:VTIMEZONE
BEGIN:VEVENT
UID:19a39091-51b3-4444-8e8d-bc4c0aacfe3a
DTSTAMP:20260422T235123Z
DESCRIPTION:
DTSTART;TZID=America/Denver:20270311T090000
DTEND;TZID=America/Denver:20270311T180000
LOCATION:HNS - Loveland
SUMMARY:HNS Loveland - Late Hours\, 9am-6pm
END:VEVENT
END:VCALENDAR
